BEGIN:VCALENDAR
VERSION:2.0
PRODID:-//PIBID: Presidential Initiative On Banana Industrial Development - ECPv6.15.17.1//NONSGML v1.0//EN
CALSCALE:GREGORIAN
METHOD:PUBLISH
X-ORIGINAL-URL:https://www.pibid.org
X-WR-CALDESC:Events for PIBID: Presidential Initiative On Banana Industrial Development
REFRESH-INTERVAL;VALUE=DURATION:PT1H
X-Robots-Tag:noindex
X-PUBLISHED-TTL:PT1H
BEGIN:VTIMEZONE
TZID:UTC
BEGIN:STANDARD
TZOFFSETFROM:+0000
TZOFFSETTO:+0000
TZNAME:UTC
DTSTART:20170101T000000
END:STANDARD
END:VTIMEZONE
BEGIN:VEVENT
DTSTART;TZID=UTC:20180803T080000
DTEND;TZID=UTC:20180803T170000
DTSTAMP:20260422T195928
CREATED:20180709T063939Z
LAST-MODIFIED:20180709T064027Z
UID:1524-1533283200-1533315600@www.pibid.org
SUMMARY:Banana Industrial Development (PIBID)
DESCRIPTION:Ugandans have been feeding on Bananas (matooke) for so many years. According to estimates\, over 10million tonnes are produced every year. It is also estimated that at least 10million people feed on bananas as their main food in Uganda and many more feed on it across the region.  However\, there is a lot of wastage of the banana.
URL:https://www.pibid.org/event/banana-industrial-development-pibid/
LOCATION:Speke Resort Munyonyo\, Munyonyo\, kampala\, central\, 256\, Uganda
ATTACH;FMTTYPE=image/jpeg:https://www.pibid.org/wp-content/uploads/2016/06/pibid_slider2.jpg
ORGANIZER;CN="PIBID":MAILTO:info@pibid.org
END:VEVENT
BEGIN:VEVENT
DTSTART;TZID=UTC:20180709T080000
DTEND;TZID=UTC:20180709T170000
DTSTAMP:20260422T195928
CREATED:20180709T060955Z
LAST-MODIFIED:20180709T060955Z
UID:1520-1531123200-1531155600@www.pibid.org
SUMMARY:Tooke Katale ~ PIBID
DESCRIPTION:The project that is a Presidential initiative for Banana Industrial Development (PIBID) is a pilot project to help develop Uganda’s Matooke for export.
URL:https://www.pibid.org/event/tooke-katale-pibid/
LOCATION:Speke Resort Munyonyo\, Munyonyo\, kampala\, central\, 256\, Uganda
ATTACH;FMTTYPE=image/jpeg:https://www.pibid.org/wp-content/uploads/2018/07/matooke4.jpg
ORGANIZER;CN="PIBID":MAILTO:info@pibid.org
END:VEVENT
END:VCALENDAR